BEGIN:VCALENDAR
VERSION:2.0
PRODID:-//Sokoliarstvo červený rybník - ECPv5.12.4//NONSGML v1.0//EN
CALSCALE:GREGORIAN
METHOD:PUBLISH
X-WR-CALNAME:Sokoliarstvo červený rybník
X-ORIGINAL-URL:https://www.sokoliarstvocervenyrybnik.sk
X-WR-CALDESC:Events for Sokoliarstvo červený rybník
REFRESH-INTERVAL;VALUE=DURATION:PT1H
X-Robots-Tag:noindex
X-PUBLISHED-TTL:PT1H
BEGIN:VTIMEZONE
TZID:Europe/Bratislava
BEGIN:DAYLIGHT
TZOFFSETFROM:+0100
TZOFFSETTO:+0200
TZNAME:CEST
DTSTART:20220327T010000
END:DAYLIGHT
BEGIN:STANDARD
TZOFFSETFROM:+0200
TZOFFSETTO:+0100
TZNAME:CET
DTSTART:20221030T010000
END:STANDARD
END:VTIMEZONE
BEGIN:VEVENT
DTSTART;VALUE=DATE:20220704
DTEND;VALUE=DATE:20220709
DTSTAMP:20260425T212606
CREATED:20220120T093421Z
LAST-MODIFIED:20220309T114326Z
UID:11045-1656892800-1657324799@www.sokoliarstvocervenyrybnik.sk
SUMMARY:Denný detský tábor
DESCRIPTION:Denný detský tábor		\n				\n				\n				\n							Hľadáte prázdninové aktivity pre svoje deti ?  Tak ste na správnej adrese !  Pre Vaše deti máme prichystaný celodenný program s našimi animátormi a to všetko v lesnom prostredí. Od rannej rozcvičky až po ochladenie sa v bazéne. Deň začína príchodom na 08:00 hod. a krátkou rozcvičkou. Pokračuje naplánovaným program do 10:00 hod.\, kedy prebehne desiatová prestávka. Ďalší program\, a 12:00 hod. obed. Deň ukončíme olovrantom a o 16:00 hod. počkáme na rodičov. 						\n				\n				\n				\n							práca s dravými vtákmilesná pedagogikašportové a spoločenské hrykúpanie v bazénejazda na konispoločenské hry a ručné práceMin. počet 6 detí                 Max. počet12 detí 						\n				\n					\n		\n							\n		\n				\n						\n					\n			\n								\n				\n					\n			\n						\n						\n							\n						Prihláška do tábora\n		\n					\n		\n				\n				\n					\n		\n							\n		\n				\n						\n					\n			\n								\n				\n			Deň a čas		\n				\n				\n				\n							04.7. – 08.07.2022  každý deň príchod na 08:00hod a ukončenie 16:00hod. Prihláška je on Line na našej stránke a medzi dokumentami na stiahnutie si nájdete všeobecné zmluvné podmienky.  
URL:https://www.sokoliarstvocervenyrybnik.sk/event/denny-detsky-tabor/
LOCATION:Sokoliarstvo červený rybník\, Záhorie\, Lakšárska Nová Ves\, Záhorie\, Slovenská republika
CATEGORIES:Denný detský tábor
ATTACH;FMTTYPE=image/png:https://www.sokoliarstvocervenyrybnik.sk/wp-content/uploads/2022/01/udalosti_1200x800.png
ORGANIZER;CN="Sokoliarstvo%20%C4%8Cerven%C3%BD%20rybn%C3%ADk":MAILTO:info@sokoliarstvocervenyrybnik.sk
END:VEVENT
END:VCALENDAR